{"text_format":"3","workbook":"xlsx","n_sheets":2,"sheets":["Presupuesto Aprobado-Ejec  ENER","INGRESOS DE VS ENERO 2023 "],"not_rendered":{"images":1,"external_links":2},"read":"whole","date_system":"1900"}

{"sheet":"Presupuesto Aprobado-Ejec  ENER","index":0,"n_rows":95,"n_cols":19,"rows_kept":95,"merged":[[2,0,2,4],[3,0,3,4],[4,0,4,15],[5,0,5,15],[6,0,6,15],[7,1,7,16],[8,1,8,16],[9,0,10,0],[9,1,10,1],[9,2,10,2],[9,3,9,15]]}
[]
[]
[" SERVICIO REGIONAL DE SALUD NORCENTRAL   "]
["HOSPITAL REGIONAL UNIV. JOSE MARIA CABRAL Y BAEZ"]
[]
["                                                                              Ejecución de Gasto y Aplicaciones financieras "]
["                                                                              INGRESOS VS En RD$             EN EL MES DE MARZO 2023"]
[null," INGRESOS FR EN RD$"]
[null,"   TOTAL  "]
["DETALLE","Presupuesto Aprobado","Presupuesto Modificado","Gasto devengado "]
[{"$nulls":3},"Enero 2023","Febrero2023","Marzo 2023","Abril 2023","Mayo 2023","Junio 2023","Julio 2023","Agosto 2023","Septiembre 2023","Octubre 2023","Noviembre  2023","Diciembre  2023","Total "]
["2 - GASTOS"]
["2.1 - REMUNERACIONES Y CONTRIBUCIONES",{"$f":"SUM(B14:B18)","v":{"v":1157708982.66,"d":"1,157,708,982.66"}},null,{"$f":"SUM(D14:D18)","v":{"v":1191938.98,"d":"1,191,938.98"}},{"$f":"SUM(E14:E18)","v":{"v":1158121.26,"d":"1,158,121.26"}},{"$f":"SUM(F14:F18)","v":{"v":14568740.780000001,"d":"14,568,740.78"}},{"$nulls":9},{"$f":"+D13+E13+F13+G13+H13+I13+J13+K13+L13+M13+N13+O13","v":{"v":16918801.020000003,"d":"16,918,801.02"}}]
["2.1.1 - REMUNERACIONES",{"v":1101752364.22,"d":"1,101,752,364.22"},null,{"v":280000,"d":"280,000.00"},{"$f":"'[1]CONS. FUENTES FINAN'!$H$27","v":{"v":245766.5,"d":"245,766.50"}},{"$f":"'[2]CONS. FUENTES FINAN'!$J$27","v":{"v":183000,"d":"183,000.00"}},{"$nulls":9},{"$f":"+D14+E14+F14+G14+H14+I14+J14+K14+L14+M14+N14+O14","v":{"v":708766.5,"d":"708,766.50"}}]
["2.1.2 - SOBRESUELDOS",{"v":55956618.44,"d":"55,956,618.44"},null,{"v":911938.98,"d":"911,938.98"},{"$f":"'[1]CONS. FUENTES FINAN'!$J$51","v":{"v":912354.76,"d":"912,354.76"}},{"$f":"'[2]CONS. FUENTES FINAN'!$J$51","v":{"v":14338806.280000001,"d":"14,338,806.28"}},{"$nulls":9},{"v":16163100.020000001,"d":"16,163,100.02"}]
["2.1.3 - DIETAS Y GASTOS DE REPRESENTACIÓN",{"$nulls":14},{"v":0,"d":"0.00"}]
["2.1.4 - GRATIFICACIONES Y BONIFICACIONES",{"$nulls":4},{"$f":"'[2]CONS. FUENTES FINAN'!$J$71","v":{"v":46934.5,"d":"46,934.50"}},{"$nulls":9},{"v":46934.5,"d":"46,934.50"}]
["2.1.5 - CONTRIBUCIONES A LA SEGURIDAD SOCIAL",{"$nulls":14},{"v":0,"d":"0.00"}]
["2.2 - CONTRATACIÓN DE SERVICIOS",{"$f":"SUM(B20:B28)","v":{"v":10523592.162,"d":"10,523,592.16"}},null,{"$f":"SUM(D20:D28)","v":{"v":532275.47,"d":"532,275.47"}},{"$f":"SUM(E20:E28)","v":{"v":494447.5,"d":"494,447.50"}},{"$f":"SUM(F20:F28)","v":{"v":708848.9299999999,"d":"708,848.93"}},{"$nulls":9},{"v":1735571.9,"d":"1,735,571.90"},null,{"$f":"P13/S90","v":{"v":0.037561843713993785,"d":"4%"}}]
["2.2.1 - SERVICIOS BÁSICOS",{"v":3961103.72,"d":"3,961,103.72"},null,{"v":281525.24,"d":"281,525.24"},{"$nulls":11},{"v":281525.24,"d":"281,525.24"}]
["2.2.2 - PUBLICIDAD, IMPRESIÓN Y ENCUADERNACIÓN",{"v":1385224.8,"d":"1,385,224.80"},null,null,{"$f":"'[1]CONS. FUENTES FINAN'!$J$106","v":{"v":251635,"d":"251,635.00"}},{"$f":"'[2]CONS. FUENTES FINAN'!$J$110","v":{"v":316735.6,"d":"316,735.60"}},{"$nulls":9},{"v":568370.6,"d":"568,370.60"},null,{"$f":"P19/S90","v":{"v":0.003853185600157808,"d":"0%"}}]
["2.2.3 - VIÁTICOS",{"v":796800,"d":"796,800.00"},{"$nulls":13},{"v":0,"d":"0.00"}]
["2.2.4 - TRANSPORTE Y ALMACENAJE",{"v":72800,"d":"72,800.00"},null,{"v":12853.27,"d":"12,853.27"},{"$f":"'[1]CONS. FUENTES FINAN'!$J$116","v":{"v":5812.97,"d":"5,812.97"}},{"$f":"'[2]CONS. FUENTES FINAN'!$J$116","v":{"v":10921.54,"d":"10,921.54"}},{"$nulls":9},{"v":29587.780000000002,"d":"29,587.78"}]
["2.2.5 - ALQUILERES Y RENTAS",{"v":80000,"d":"80,000.00"},{"$nulls":3},{"$f":"'[2]CONS. FUENTES FINAN'!$J$125","v":{"v":119399.94,"d":"119,399.94"}},{"$nulls":9},{"v":119399.94,"d":"119,399.94"}]
["2.2.6 - SEGUROS",{"$nulls":14},{"v":0,"d":"0.00"}]
["2.2.7 - SERVICIOS DE CONSERVACIÓN, REPARACIONES MENORES E INSTALACIONES TEMPORALES",{"v":2286090.17,"d":"2,286,090.17"},null,{"v":147470,"d":"147,470.00"},{"$f":"'[1]CONS. FUENTES FINAN'!$J$157","v":{"v":128616.09,"d":"128,616.09"}},{"$f":"'[2]CONS. FUENTES FINAN'!$J$167","v":{"v":109388.88,"d":"109,388.88"}},{"$nulls":9},{"v":385474.97,"d":"385,474.97"}]
["2.2.8 - OTROS SERVICIOS NO INCLUIDOS EN CONCEPTOS ANTERIORES",{"v":1941573.472,"d":"1,941,573.47"},null,{"v":90426.96,"d":"90,426.96"},{"$f":"'[1]CONS. FUENTES FINAN'!$J$179","v":{"v":108383.44,"d":"108,383.44"}},{"$f":"'[2]CONS. FUENTES FINAN'!$J$179","v":{"v":103108.47,"d":"103,108.47"}},{"$nulls":9},{"v":301918.87,"d":"301,918.87"}]
["2.2.9 - OTRAS CONTRATACIONES DE SERVICIOS",{"$nulls":4},{"v":49294.5,"d":"49,294.50"},{"$nulls":9},{"v":49294.5,"d":"49,294.50"}]
["2.3 - MATERIALES Y SUMINISTROS",{"$f":"SUM(B30:B38)","v":{"v":617321178.138,"d":"617,321,178.14"}},null,{"$f":"SUM(D30:D38)","v":{"v":23127949.9,"d":"23,127,949.90"}},{"$f":"SUM(E30:E38)","v":{"v":34739709.57,"d":"34,739,709.57"}},{"$f":"SUM(F30:F38)","v":{"v":25607296.259999998,"d":"25,607,296.26"}},{"$nulls":9},{"v":83474955.72999999,"d":"83,474,955.73"}]
["2.3.1 - ALIMENTOS Y PRODUCTOS AGROFORESTALES",{"v":37544097.36,"d":"37,544,097.36"},null,null,{"$f":"'[1]CONS. FUENTES FINAN'!$J$213","v":{"v":2884633.51,"d":"2,884,633.51"}},{"$f":"'[2]CONS. FUENTES FINAN'!$J$213","v":{"v":2163317.8,"d":"2,163,318"}},{"$nulls":9},{"v":5047951.31,"d":"5,047,951.31"},null,{"$f":"P29/S90","v":{"v":0.18532478970917107,"d":"19%"}}]
["2.3.2 - TEXTILES Y VESTUARIOS",{"v":195904.28,"d":"195,904.28"},{"$nulls":13},{"v":0,"d":"0.00"}]
["2.3.3 - PRODUCTOS DE PAPEL, CARTÓN E IMPRESOS",{"v":5736570.64,"d":"5,736,570.64"},null,null,{"$f":"'[1]CONS. FUENTES FINAN'!$J$232","v":{"v":137792.91,"d":"137,792.91"}},{"$f":"'[2]CONS. FUENTES FINAN'!$J$232","v":{"v":382729.37,"d":"382,729"}},{"$nulls":9},{"$f":"+D32+E32+F32+G32+H32+I32+J32+K32+L32+M32+N32+O32","v":{"v":520522.28,"d":"520,522.28"}}]
["2.3.4 - PRODUCTOS FARMACÉUTICOS",{"v":288979087.7,"d":"288,979,087.70"},null,{"v":13187421.34,"d":"13,187,421.34"},{"v":13014313.79,"d":"13,014,313.79"},{"$f":"'[2]CONS. FUENTES FINAN'!$J$245","v":{"v":9096597.65,"d":"9,096,597.65"}},{"$nulls":9},{"v":35298332.78,"d":"35,298,332.78"}]
["2.3.5 - PRODUCTOS DE CUERO, CAUCHO Y PLÁSTICO",{"v":4658262.815999999,"d":"4,658,262.82"},null,{"v":93314.4,"d":"93,314.40"},{"v":250312.8,"d":"250,312.80"},{"$f":"'[2]CONS. FUENTES FINAN'!$J$250","v":{"v":393521.31,"d":"393,521.31"}},{"$nulls":9},{"v":737148.51,"d":"737,148.51"}]
["2.3.6 - PRODUCTOS DE MINERALES, METÁLICOS Y NO METÁLICOS",null,null,{"v":103633.27,"d":"103,633.27"},{"v":25795.6,"d":"25,795.60"},{"$f":"'[2]CONS. FUENTES FINAN'!$J$261","v":{"v":32532.6,"d":"32,533"}},{"$nulls":9},{"v":161961.47,"d":"161,961.47"}]
["2.3.7 - COMBUSTIBLES, LUBRICANTES, PRODUCTOS QUÍMICOS Y CONEXOS",{"v":150748198.248,"d":"150,748,198.25"},null,{"v":6054341.63,"d":"6,054,341.63"},{"v":7332790.28,"d":"7,332,790.28"},{"$f":"'[2]CONS. FUENTES FINAN'!$J$286","v":{"v":5289422.0600000005,"d":"5,289,422.06"}},{"$nulls":9},{"v":18676553.97,"d":"18,676,553.97"}]
["2.3.8 - GASTOS QUE SE ASIGNARÁN DURANTE EL EJERCICIO (ART. 32 Y 33 LEY 423-06)",{"$nulls":14},{"v":0,"d":"0.00"}]
["2.3.9 - PRODUCTOS Y ÚTILES VARIOS",{"v":129459057.09400001,"d":"129,459,057.09"},null,{"v":3689239.26,"d":"3,689,239.26"},{"v":11094070.68,"d":"11,094,070.68"},{"$f":"'[2]CONS. FUENTES FINAN'!$J$308","v":{"v":8249175.469999999,"d":"8,249,175.47"}},{"$nulls":9},{"v":23032485.409999996,"d":"23,032,485.41"}]
["2.4 - TRANSFERENCIAS CORRIENTES",{"$nulls":14},{"$f":"+D39+E39+F39+G39+H39+I39+J39+K39+L39+M39+N39+O39","v":{"v":0,"d":"0.00"}}]
["2.4.1 - TRANSFERENCIAS CORRIENTES AL SECTOR PRIVADO",{"$nulls":14},{"v":0,"d":"0.00"}]
["2.4.2 - TRANSFERENCIAS CORRIENTES AL  GOBIERNO GENERAL NACIONAL",{"$nulls":14},{"v":0,"d":"0.00"}]
["2.4.3 - TRANSFERENCIAS CORRIENTES A GOBIERNOS GENERALES LOCALES",{"$nulls":14},{"v":0,"d":"0.00"}]
["2.4.4 - TRANSFERENCIAS CORRIENTES A EMPRESAS PÚBLICAS NO FINANCIERAS",{"$nulls":14},{"v":0,"d":"0.00"}]
["2.4.5 - TRANSFERENCIAS CORRIENTES A INSTITUCIONES PÚBLICAS FINANCIERAS",null,0,{"$nulls":12},{"v":0,"d":"0.00"}]
["2.4.7 - TRANSFERENCIAS CORRIENTES AL SECTOR EXTERNO",null,0,{"$nulls":12},{"v":0,"d":"0.00"}]
["2.4.9 - TRANSFERENCIAS CORRIENTES A OTRAS INSTITUCIONES PÚBLICAS",null,0,{"$nulls":12},{"v":0,"d":"0.00"}]
["2.5 - TRANSFERENCIAS DE CAPITAL",null,0,{"$nulls":12},{"v":0,"d":"0.00"}]
["2.5.1 - TRANSFERENCIAS DE CAPITAL AL SECTOR PRIVADO",null,0,{"$nulls":12},{"v":0,"d":"0.00"}]
["2.5.2 - TRANSFERENCIAS DE CAPITAL AL GOBIERNO GENERAL  NACIONAL",null,0,{"$nulls":12},{"v":0,"d":"0.00"}]
["2.5.3 - TRANSFERENCIAS DE CAPITAL A GOBIERNOS GENERALES LOCALES",null,0,{"$nulls":12},{"v":0,"d":"0.00"}]
["2.5.4 - TRANSFERENCIAS DE CAPITAL  A EMPRESAS PÚBLICAS NO FINANCIERAS",null,0,{"$nulls":12},{"v":0,"d":"0.00"}]
["2.5.5 - TRANSFERENCIAS DE CAPITAL A INSTITUCIONES PÚBLICAS FINANCIERAS",null,0,{"$nulls":12},{"v":0,"d":"0.00"}]
["2.5.6 - TRANSFERENCIAS DE CAPITAL AL SECTOR EXTERNO",null,0,{"$nulls":12},{"v":0,"d":"0.00"}]
["2.5.9 - TRANSFERENCIAS DE CAPITAL A OTRAS INSTITUCIONES PÚBLICAS",null,0,{"$nulls":12},{"v":0,"d":"0.00"}]
["2.6 - BIENES MUEBLES, INMUEBLES E INTANGIBLES",{"$f":"SUM(B56:B64)","v":{"v":16147052.658000002,"d":"16,147,052.66"}},{"$f":"+C56+C57+C58+C59+C60+C61+C62+C63+C64","v":0},{"$f":"+D56+D57+D58+D59+D60+D61+D62+D63+D64","v":0},{"v":296659.28,"d":"296,659.28"},{"v":101999.99,"d":"101,999.99"},{"$nulls":9},{"$f":"+D55+E55+F55+G55+H55+I55+J55+K55+L55+M55+N55+O55","v":{"v":398659.27,"d":"398,659.27"}}]
["2.6.1 - MOBILIARIO Y EQUIPO",{"v":6396229.234,"d":"6,396,229.23"},null,null,{"v":245159.28,"d":"245,159.28"},{"$f":"'[2]CONS. FUENTES FINAN'!$J$337","v":{"v":7000,"d":"7,000.00"}},{"$nulls":9},{"v":252159.28,"d":"252,159.28"}]
["2.6.2 - MOBILIARIO Y EQUIPO EDUCACIONAL Y RECREATIVO",null,null,0,{"$nulls":11},{"v":0,"d":"0.00"},null,null,{"$f":"P55/S90","v":{"v":8.8507319030310628E-4,"d":"0%"}}]
["2.6.3 - EQUIPO E INSTRUMENTAL, CIENTÍFICO Y LABORATORIO",{"v":8655109.344,"d":"8,655,109.34"},null,0,{"$nulls":11},{"v":0,"d":"0.00"}]
["2.6.4 - VEHÍCULOS Y EQUIPO DE TRANSPORTE, TRACCIÓN Y ELEVACIÓN",null,null,0,{"$nulls":11},{"v":0,"d":"0.00"}]
["2.6.5 - MAQUINARIA, OTROS EQUIPOS Y HERRAMIENTAS",{"v":795714.0800000001,"d":"795,714.08"},null,0,{"v":51500,"d":"51,500.00"},{"$f":"'[2]CONS. FUENTES FINAN'!$J$383","v":{"v":94999.99,"d":"94,999.99"}},{"$nulls":9},{"v":146499.99,"d":"146,499.99"}]
["2.6.6 - EQUIPOS DE DEFENSA Y SEGURIDAD",null,null,0,{"$nulls":11},{"v":0,"d":"0.00"}]
["2.6.7 - ACTIVOS BIÓLOGICOS CULTIVABLES",null,null,0,{"$nulls":11},{"v":0,"d":"0.00"}]
["2.6.8 - BIENES INTANGIBLES",{"v":300000,"d":"300,000.00"},null,0,{"$nulls":11},{"v":0,"d":"0.00"}]
["2.6.9 - EDIFICIOS, ESTRUCTURAS, TIERRAS, TERRENOS Y OBJETOS DE VALOR",null,null,0,{"$nulls":11},{"v":0,"d":"0.00"}]
["2.7 - OBRAS",null,null,{"$f":"+D66+D67+D68+D69","v":0},{"$nulls":11},{"v":0,"d":"0.00"}]
["2.7.1 - OBRAS EN EDIFICACIONES",null,null,0,{"$nulls":11},{"v":0,"d":"0.00"}]
["2.7.2 - INFRAESTRUCTURA",null,null,0,{"$nulls":11},{"v":0,"d":"0.00"}]
["2.7.3 - CONSTRUCCIONES EN BIENES CONCESIONADOS",null,null,0,{"$nulls":11},{"v":0,"d":"0.00"}]
["2.7.4 - GASTOS QUE SE ASIGNARÁN DURANTE EL EJERCICIO PARA INVERSIÓN (ART. 32 Y 33 LEY 423-06)",null,0,0,{"$nulls":11},{"v":0,"d":"0.00"}]
["2.8 - ADQUISICION DE ACTIVOS FINANCIEROS CON FINES DE POLÍTICA",null,0,{"$f":"+D71+D72","v":0},{"$nulls":11},{"v":0,"d":"0.00"}]
["2.8.1 - CONCESIÓN DE PRESTAMOS",null,0,0,{"$nulls":11},{"v":0,"d":"0.00"}]
["2.8.2 - ADQUISICIÓN DE TÍTULOS VALORES REPRESENTATIVOS DE DEUDA",null,0,0,{"$nulls":11},{"v":0,"d":"0.00"}]
["2.9 - GASTOS FINANCIEROS",null,0,0,{"$nulls":11},{"$f":"+D73+E73+F73+G73+H73+I73+J73+K73+L73+M73+N73+O73","v":{"v":0,"d":"0.00"}}]
["2.9.1 - INTERESES DE LA DEUDA PÚBLICA INTERNA",null,0,0,{"$nulls":11},{"$f":"+D74+E74+F74+G74+H74+I74+J74+K74+L74+M74+N74+O74","v":{"v":0,"d":"0.00"}}]
["2.9.2 - INTERESES DE LA DEUDA PUBLICA EXTERNA",null,0,0,{"$nulls":11},{"v":0,"d":"0.00"}]
["2.9.4 - COMISIONES Y OTROS GASTOS BANCARIOS DE LA DEUDA PÚBLICA",null,0,0,0,0,0,0,{"$nulls":7},{"v":0,"d":"0.00"}]
["4 - APLICACIONES FINANCIERAS",null,0,0,0,0,0,0,{"$nulls":7},{"v":0,"d":"0.00"}]
["4.1 - INCREMENTO DE ACTIVOS FINANCIEROS",null,0,0,0,0,0,0,{"$nulls":7},{"$f":"+D78+E78+F78+G78+H78+I78+J78+K78+L78+M78+N78+O78","v":{"v":0,"d":"0.00"}}]
["4.1.1 - INCREMENTO DE ACTIVOS FINANCIEROS CORRIENTES",null,0,0,0,0,0,0,{"$nulls":7},{"v":0,"d":"0.00"}]
["4.1.2 - INCREMENTO DE ACTIVOS FINANCIEROS NO CORRIENTES",null,0,0,0,0,0,0,{"$nulls":7},{"v":0,"d":"0.00"}]
["4.2 - DISMINUCIÓN DE PASIVOS",null,0,0,0,0,0,0,{"$nulls":7},{"v":0,"d":"0.00"}]
["4.2.1 - DISMINUCIÓN DE PASIVOS CORRIENTES",null,0,0,0,0,0,0,{"$nulls":7},{"v":0,"d":"0.00"}]
["4.2.2 - DISMINUCIÓN DE PASIVOS NO CORRIENTES",null,null,0,0,0,0,0,{"$nulls":7},{"v":0,"d":"0.00"}]
["4.3 - DISMINUCIÓN DE FONDOS DE TERCEROS",null,0,0,0,0,0,0,{"$nulls":7},{"v":0,"d":"0.00"}]
["4.3.5 - DISMINUCIÓN DEPÓSITOS FONDOS DE TERCEROS",null,0,0,0,0,0,{"$nulls":8},{"v":0,"d":"0.00"}]
["Total general",{"$f":"+B13+B19+B29+B39+B55+B65","v":{"v":1801700805.618,"d":"1,801,700,805.62"}},{"$f":"+C13+C19+C29+C39+C55+C65","v":0},{"$f":"+D13+D19+D29+D39+D55+D65","v":{"v":24852164.349999998,"d":"24,852,164.35"}},{"$f":"+E13+E19+E29+E39+E55+E65","v":{"v":36688937.61,"d":"36,688,937.61"}},{"$f":"+F13+F19+F29+F39+F55+F65","v":{"v":40986885.96,"d":"40,986,885.96"}},0,0,{"$f":"+I13+I19+I29+I39+I55+I65","v":0},0,0,0,0,null,null,{"$f":"+D86+E86+F86+G86+H86+I86+J86+K86+L86+M86+N86+O86","v":{"v":102527987.91999999,"d":"102,527,987.92"}}]
[]
["Presupuesto aprobado: Se refiere al presupuesto aprobado en la Ley de Presupuesto General del Estado."]
["Presupuesto modificado:  Se refiere al presupuesto aprobado en caso de que el Congreso Nacional apruebe un presupuesto complementario. "]
["Total devengado:  Son los recursos financieros que surgen con la obligación de pago por la recepción de conformidad de obras, bienes y servicios oportunamente contratados o, en los casos de gastos sin contraprestación, por haberse cumplido los requisitos administrativos dispuestos por el reglamento de la presente Ley.",{"$nulls":4},{"$f":"F86-'[2]CONS. FUENTES FINAN'!$J$25","v":0},{"$nulls":12},{"$f":"B86/4","v":{"v":450425201.4045,"d":"450,425,201.40"}}]
[]
[]
[]
[]
["  "]

{"sheet":"INGRESOS DE VS ENERO 2023 ","index":1,"n_rows":39,"n_cols":14,"rows_kept":39}
["Establecimiento","INGRESOS VS "]
["SANTIAGO ","ENERO 2023","FEBRERO 2023","MARZO 2023","ABRIL 2023","MAYO 2023","JUNIO 2023","JULIO 2022","AGOSTO 2022","SEPTIEMBRE 2022","OCTUBRE 2022","NOVIEMBRE 2022","DICIEMBRE 2022","TOTAL  DEL 2023"]
["SERV. REGIONAL DE SALUD NORCENTRAL II",{"$nulls":12},{"$f":"SUM(B3:M3)","v":0}]
["Hospital Regional Universitario José María Cabral y Báez",{"v":22829103.38,"d":"22,829,103.38"},{"v":47851998.22,"d":"47,851,998.22"},{"$nulls":10},{"$f":"SUM(B4:M4)","v":{"v":70681101.6,"d":"70,681,101.60"}}]
["Hospital Infantil Regional Dr. Arturo Grullón ",{"$nulls":12},{"$f":"SUM(B5:M5)","v":0}]
["Unidad de Niños Quemados Dra. Thelma Rosario",{"$nulls":12},0]
["Hospital Municipal Licey al Medio",{"$nulls":12},0]
["Centro de Atención Integral Bella Vista",{"$nulls":12},0]
["Hospital Municipal de Tamboril",{"$nulls":12},0]
["Hospital Napier Díaz (Villa González)",{"$nulls":12},0]
["Hospital Municipal de Sabana Iglesia",{"$nulls":12},0]
["Hospital Municipal de Jánico",{"$nulls":12},0]
["Hospital Muncipal de San José de las Matas",{"$nulls":12},0]
["Hospital Dr. Rafael Castro",{"$nulls":12},0]
["Hospital Periférico Ensanche Libertad",{"$nulls":12},0]
["Hospital Periférico Monte Adentro",{"$nulls":12},0]
["Hospital Municipal de Navarrete",{"$nulls":12},0]
["Centro Especializado Juan XXIII",{"$nulls":12},0]
["Hospital Municipal de Hato del Yaque",{"$nulls":12},0]
["Hospital Municipal Antonio Fernández (Baitoa)",{"$nulls":12},0]
["Hospital Presidente Estrella Ureña",{"$nulls":12},0]
["PUERTO PLATA ",{"$nulls":12},0]
["Hospital Ricardo Limardo",{"$nulls":12},0]
["Hospital Dolores de la Cruz Montellano (no tienen vs)",{"$nulls":12},0]
["Hospital Pablo Morrobel Jimenez Luperón",{"$nulls":12},0]
["Hospital Municipal de Imbert",{"$nulls":12},0]
["Hospital Municipal de Altamira ",{"$nulls":12},0]
["Hospital Dr. Rafael Cantisano Arias (Los Hidalgos)",{"$nulls":12},0]
["Centro Sanitario Dr. Francisco González Hardy (no tienen vs )",{"$nulls":12},0]
["Hospital Municipal de Villa Isabela",{"$nulls":12},0]
["Hospital Municipal de Guananico",{"$nulls":12},0]
["Hospital General Gregorio Luperón (Montellano)",{"$nulls":12},0]
["ESPAILLAT",{"$nulls":12},0]
["Hospital Provincial Toribio Bencosme",{"$nulls":12},0]
["Hospital Municipal Manuel de Luna Gaspar Hernández",{"$nulls":12},0]
["Hospital Dr. Rafael Gutiérrez Sánchez Cayetano Germosén",{"$nulls":12},0]
["Hospital Municipal José Contreras Villa Trina",{"$nulls":12},0]
["Hospital Municipal Jamao al Norte",{"$nulls":12},0]
["TOTAL INGRESOS RECIBIDOS VS",{"$f":"SUM(B3:B38)","v":{"v":22829103.38,"d":"22,829,103.38"}},{"$nulls":11},{"$f":"SUM(B39:M39)","v":{"v":22829103.38,"d":"22,829,103.38"}}]